BEGIN:VCALENDAR
VERSION:2.0
PRODID:-//Imkerverein Hamm - ECPv6.15.20//NONSGML v1.0//EN
CALSCALE:GREGORIAN
METHOD:PUBLISH
X-WR-CALNAME:Imkerverein Hamm
X-ORIGINAL-URL:https://imkerverein-hamm.de
X-WR-CALDESC:Veranstaltungen für Imkerverein Hamm
REFRESH-INTERVAL;VALUE=DURATION:PT1H
X-Robots-Tag:noindex
X-PUBLISHED-TTL:PT1H
BEGIN:VTIMEZONE
TZID:Europe/Berlin
BEGIN:DAYLIGHT
TZOFFSETFROM:+0100
TZOFFSETTO:+0200
TZNAME:CEST
DTSTART:20240331T010000
END:DAYLIGHT
BEGIN:STANDARD
TZOFFSETFROM:+0200
TZOFFSETTO:+0100
TZNAME:CET
DTSTART:20241027T010000
END:STANDARD
BEGIN:DAYLIGHT
TZOFFSETFROM:+0100
TZOFFSETTO:+0200
TZNAME:CEST
DTSTART:20250330T010000
END:DAYLIGHT
BEGIN:STANDARD
TZOFFSETFROM:+0200
TZOFFSETTO:+0100
TZNAME:CET
DTSTART:20251026T010000
END:STANDARD
BEGIN:DAYLIGHT
TZOFFSETFROM:+0100
TZOFFSETTO:+0200
TZNAME:CEST
DTSTART:20260329T010000
END:DAYLIGHT
BEGIN:STANDARD
TZOFFSETFROM:+0200
TZOFFSETTO:+0100
TZNAME:CET
DTSTART:20261025T010000
END:STANDARD
BEGIN:DAYLIGHT
TZOFFSETFROM:+0100
TZOFFSETTO:+0200
TZNAME:CEST
DTSTART:20270328T010000
END:DAYLIGHT
BEGIN:STANDARD
TZOFFSETFROM:+0200
TZOFFSETTO:+0100
TZNAME:CET
DTSTART:20271031T010000
END:STANDARD
END:VTIMEZONE
BEGIN:VEVENT
DTSTART;TZID=Europe/Berlin:20260210T190000
DTEND;TZID=Europe/Berlin:20260210T210000
DTSTAMP:20260421T141353
CREATED:20260301T093317Z
LAST-MODIFIED:20260301T093317Z
UID:8586-1770750000-1770757200@imkerverein-hamm.de
SUMMARY:Jahreshauptversammlung des Imkervereins Hamm.
DESCRIPTION:Die Einladung zur JHV erfolgt auf Postalischem Wege mit der Jahrespost. Treffpunkt ist das HSV-Casino.
URL:https://imkerverein-hamm.de/termin/jahreshauptversammlung-des-imkervereins-hamm/
LOCATION:HSV-Casino Hamm\, Jürgen-Graef-Allee 13\, 59065 Hamm\, Jürgen-Graef-Allee 13\, Hamm\, 59065
END:VEVENT
BEGIN:VEVENT
DTSTART;TZID=Europe/Berlin:20260123T190000
DTEND;TZID=Europe/Berlin:20260123T210000
DTSTAMP:20260421T141353
CREATED:20260301T093151Z
LAST-MODIFIED:20260301T093151Z
UID:8583-1769194800-1769202000@imkerverein-hamm.de
SUMMARY:Vertreterversammlung des Kreisimkervereins (KIV)
DESCRIPTION:Für Stimmrechte des Imkervereins bitten wir um Anmeldung
URL:https://imkerverein-hamm.de/termin/vertreterversammlung-des-kreisimkervereins-kiv/
LOCATION:HSV-Casino Hamm\, Jürgen-Graef-Allee 13\, 59065 Hamm\, Jürgen-Graef-Allee 13\, Hamm\, 59065
END:VEVENT
BEGIN:VEVENT
DTSTART;TZID=Europe/Berlin:20251203T190000
DTEND;TZID=Europe/Berlin:20251203T210000
DTSTAMP:20260421T141353
CREATED:20250504T135434Z
LAST-MODIFIED:20250504T135434Z
UID:7556-1764788400-1764795600@imkerverein-hamm.de
SUMMARY:Gemeinsamer Weihnachtsmarkt Besuch
DESCRIPTION:Treffen und Spaziergang auf dem Hammer Weihnachtsmarkt
URL:https://imkerverein-hamm.de/termin/gemeinsamer-weihnachtsmarkt-besuch/
END:VEVENT
BEGIN:VEVENT
DTSTART;TZID=Europe/Berlin:20251113T190000
DTEND;TZID=Europe/Berlin:20251113T220000
DTSTAMP:20260421T141353
CREATED:20250504T135342Z
LAST-MODIFIED:20251018T174122Z
UID:7553-1763060400-1763071200@imkerverein-hamm.de
SUMMARY:Vereins Jahresabschluss
DESCRIPTION:Um den Jahresabschluss zu feiern\, wollen wir mit Euch gemeinsam essen gehen. \nBitte unter kontakt.imkervereinhamm@gmail.com anmelden.
URL:https://imkerverein-hamm.de/termin/vereins-jahresabschluss/
LOCATION:Brauereihof Wilshaus\, Baumstraße 46\, Hamm\, 59071\, Germany
END:VEVENT
BEGIN:VEVENT
DTSTART;TZID=Europe/Berlin:20250906T140000
DTEND;TZID=Europe/Berlin:20250906T180000
DTSTAMP:20260421T141353
CREATED:20250504T134841Z
LAST-MODIFIED:20250826T175506Z
UID:7548-1757167200-1757181600@imkerverein-hamm.de
SUMMARY:ABGESAGT- Spaziergang im Uentroper Wald - ABGESAGT
DESCRIPTION:Wir müssen diesen Termin leider absagen! \nWir laden Euch herzlich zu einem Spaziergang zum Herbstbeginn in den Uentroper Wald ein! \nNach dem Spaziergang kehren wir zum Café Umtrunk ein (Selbstkosten) um den Tag gemütlich ausklingen zu lassen. \nTreffpunkt wird Tante Malchen. \nGäste sind gerne willkommen!
URL:https://imkerverein-hamm.de/termin/spaziergang-im-uentroper-wald/
LOCATION:Tante Malchen\, Dolberger Straße 89\, Lippetal\, 59510\, Germany
END:VEVENT
BEGIN:VEVENT
DTSTART;TZID=Europe/Berlin:20250813T190000
DTEND;TZID=Europe/Berlin:20250813T210000
DTSTAMP:20260421T141353
CREATED:20250504T134519Z
LAST-MODIFIED:20250504T134519Z
UID:7546-1755111600-1755118800@imkerverein-hamm.de
SUMMARY:Imker Stammtisch
DESCRIPTION:Stammtisch für Imkerinnen und Imker zur offenen Gesprächsrunde und Austausch. \nThemen: \n\nVarroa Behandlung\nVorbereitung der Einwinterung\n\nGäste sind gerne willkommen!
URL:https://imkerverein-hamm.de/termin/imker-stammtisch-2/
END:VEVENT
BEGIN:VEVENT
DTSTART;TZID=Europe/Berlin:20250705T150000
DTEND;TZID=Europe/Berlin:20250705T220000
DTSTAMP:20260421T141353
CREATED:20250504T134345Z
LAST-MODIFIED:20250504T134345Z
UID:7544-1751727600-1751752800@imkerverein-hamm.de
SUMMARY:75 Jährigen Jubiläum des Imkervereins Hamm
DESCRIPTION:Feier zum 75 Jährigen Jubiläum des Imkervereins Hamm. Einzelheiten werden durch den Vorstand noch bekannt gegeben. \nBirgit stellt Ihren Garten zur Verfügung. Anmeldung bitte an kontakt.imkervereinhamm@gmail.com
URL:https://imkerverein-hamm.de/termin/75-jaehrigen-jubilaeum-des-imkervereins-hamm/
END:VEVENT
BEGIN:VEVENT
DTSTART;TZID=Europe/Berlin:20250611T190000
DTEND;TZID=Europe/Berlin:20250611T210000
DTSTAMP:20260421T141353
CREATED:20250504T134141Z
LAST-MODIFIED:20250504T134141Z
UID:7541-1749668400-1749675600@imkerverein-hamm.de
SUMMARY:Imker Stammtisch
DESCRIPTION:Stammtisch für Imkerinnen und Imker im HSV – Casino Behandlung von Honig. Vortrag von Ulf Bergmann über die Asiatische Hornisse. \nGäste sind gerne willkommen.
URL:https://imkerverein-hamm.de/termin/imker-stammtisch/
LOCATION:HSV Sportcasino\, Jürgen-Graef-Allee 13\, Hamm\, 59065
END:VEVENT
END:VCALENDAR