BEGIN:VCALENDAR
VERSION:2.0
PRODID:-//Imkerverein Hamm - ECPv6.15.20//NONSGML v1.0//EN
CALSCALE:GREGORIAN
METHOD:PUBLISH
X-ORIGINAL-URL:https://imkerverein-hamm.de
X-WR-CALDESC:Veranstaltungen für Imkerverein Hamm
REFRESH-INTERVAL;VALUE=DURATION:PT1H
X-Robots-Tag:noindex
X-PUBLISHED-TTL:PT1H
BEGIN:VTIMEZONE
TZID:Europe/Berlin
BEGIN:DAYLIGHT
TZOFFSETFROM:+0100
TZOFFSETTO:+0200
TZNAME:CEST
DTSTART:20250330T010000
END:DAYLIGHT
BEGIN:STANDARD
TZOFFSETFROM:+0200
TZOFFSETTO:+0100
TZNAME:CET
DTSTART:20251026T010000
END:STANDARD
BEGIN:DAYLIGHT
TZOFFSETFROM:+0100
TZOFFSETTO:+0200
TZNAME:CEST
DTSTART:20260329T010000
END:DAYLIGHT
BEGIN:STANDARD
TZOFFSETFROM:+0200
TZOFFSETTO:+0100
TZNAME:CET
DTSTART:20261025T010000
END:STANDARD
BEGIN:DAYLIGHT
TZOFFSETFROM:+0100
TZOFFSETTO:+0200
TZNAME:CEST
DTSTART:20270328T010000
END:DAYLIGHT
BEGIN:STANDARD
TZOFFSETFROM:+0200
TZOFFSETTO:+0100
TZNAME:CET
DTSTART:20271031T010000
END:STANDARD
END:VTIMEZONE
BEGIN:VEVENT
DTSTART;VALUE=DATE:20260520
DTEND;VALUE=DATE:20260521
DTSTAMP:20260421T140434
CREATED:20260301T150029Z
LAST-MODIFIED:20260301T150029Z
UID:8588-1779235200-1779321599@imkerverein-hamm.de
SUMMARY:Weltbienentag
DESCRIPTION:Dieser Tag soll das Bewusstsein für die Bedeutung von Bienen in unserer Umwelt verdeutlichen.
URL:https://imkerverein-hamm.de/termin/weltbienentag/
END:VEVENT
BEGIN:VEVENT
DTSTART;VALUE=DATE:20260523
DTEND;VALUE=DATE:20260524
DTSTAMP:20260421T140434
CREATED:20260301T150158Z
LAST-MODIFIED:20260301T150158Z
UID:8590-1779494400-1779580799@imkerverein-hamm.de
SUMMARY:Sommertreffen im Maxipark um den Tag der Bienen zu feiern.
DESCRIPTION:Wir wollen mit zahlreichen Aktionen auf unseren Verein aufmerksam machen. Um Anmeldung wird per E-Mail gebeten.
URL:https://imkerverein-hamm.de/termin/sommertreffen-im-maxipark-um-den-tag-der-bienen-zu-feiern/
LOCATION:Maxipark Hamm\, Alter Grenzweg 2\, Hamm\, 59071
END:VEVENT
BEGIN:VEVENT
DTSTART;TZID=Europe/Berlin:20260606T110000
DTEND;TZID=Europe/Berlin:20260606T150000
DTSTAMP:20260421T140434
CREATED:20260301T150239Z
LAST-MODIFIED:20260301T150239Z
UID:8592-1780743600-1780758000@imkerverein-hamm.de
SUMMARY:Schnuppertag für Interessierte
DESCRIPTION:Diese Veranstaltung richtet sich an Nichtmitglieder die an der Imkerei interessiert sind. Veranstaltungsort ist der Garten von \nBirgit Arndt. Vorherige Anmeldung per Email nötig.
URL:https://imkerverein-hamm.de/termin/schnuppertag-fuer-interessierte/
END:VEVENT
BEGIN:VEVENT
DTSTART;TZID=Europe/Berlin:20260714T190000
DTEND;TZID=Europe/Berlin:20260714T210000
DTSTAMP:20260421T140434
CREATED:20260301T150329Z
LAST-MODIFIED:20260301T150329Z
UID:8594-1784055600-1784062800@imkerverein-hamm.de
SUMMARY:Hygieneschulung für unsere Imkerinnen und Imker
DESCRIPTION:
URL:https://imkerverein-hamm.de/termin/hygieneschulung-fuer-unsere-imkerinnen-und-imker/
LOCATION:HSV-Casino Hamm\, Jürgen-Graef-Allee 13\, 59065 Hamm\, Jürgen-Graef-Allee 13\, Hamm\, 59065
END:VEVENT
BEGIN:VEVENT
DTSTART;TZID=Europe/Berlin:20260908T190000
DTEND;TZID=Europe/Berlin:20260908T210000
DTSTAMP:20260421T140434
CREATED:20260301T150417Z
LAST-MODIFIED:20260301T150417Z
UID:8596-1788894000-1788901200@imkerverein-hamm.de
SUMMARY:Stammtisch für Imkerinnen und Imker im HSV
DESCRIPTION:Casino Austausch über Themen wie Ernte\, Honigverarbeitung und Einfüttern. Wer weiß jetzt schon wie weit wir dann sind. 😉
URL:https://imkerverein-hamm.de/termin/stammtisch-fuer-imkerinnen-und-imker-im-hsv/
LOCATION:HSV-Casino Hamm\, Jürgen-Graef-Allee 13\, 59065 Hamm\, Jürgen-Graef-Allee 13\, Hamm\, 59065
END:VEVENT
BEGIN:VEVENT
DTSTART;TZID=Europe/Berlin:20261013T190000
DTEND;TZID=Europe/Berlin:20261013T210000
DTSTAMP:20260421T140434
CREATED:20260301T150526Z
LAST-MODIFIED:20260301T150526Z
UID:8598-1791918000-1791925200@imkerverein-hamm.de
SUMMARY:Stammtisch für Imkerinnen und Imker
DESCRIPTION:
URL:https://imkerverein-hamm.de/termin/stammtisch-fuer-imkerinnen-und-imker/
LOCATION:HSV-Casino Hamm\, Jürgen-Graef-Allee 13\, 59065 Hamm\, Jürgen-Graef-Allee 13\, Hamm\, 59065
END:VEVENT
BEGIN:VEVENT
DTSTART;TZID=Europe/Berlin:20261110T180000
DTEND;TZID=Europe/Berlin:20261110T210000
DTSTAMP:20260421T140434
CREATED:20260301T150651Z
LAST-MODIFIED:20260301T150651Z
UID:8600-1794333600-1794344400@imkerverein-hamm.de
SUMMARY:Jahresabschluss
DESCRIPTION:Um Anmeldung per Email wird gebeten.
URL:https://imkerverein-hamm.de/termin/jahresabschluss/
LOCATION:Restaurant „Rucola“\, Hubert-Westermeier-Str. 4\,59069 Hamm\, Hubert-Westermeier-Str. 4\,\, Hamm\, 59069
END:VEVENT
END:VCALENDAR