BEGIN:VCALENDAR
VERSION:2.0
PRODID:-//Imkerverein Hamm - ECPv6.15.20//NONSGML v1.0//EN
CALSCALE:GREGORIAN
METHOD:PUBLISH
X-ORIGINAL-URL:https://imkerverein-hamm.de
X-WR-CALDESC:Veranstaltungen für Imkerverein Hamm
REFRESH-INTERVAL;VALUE=DURATION:PT1H
X-Robots-Tag:noindex
X-PUBLISHED-TTL:PT1H
BEGIN:VTIMEZONE
TZID:Europe/Berlin
BEGIN:DAYLIGHT
TZOFFSETFROM:+0100
TZOFFSETTO:+0200
TZNAME:CEST
DTSTART:20240331T010000
END:DAYLIGHT
BEGIN:STANDARD
TZOFFSETFROM:+0200
TZOFFSETTO:+0100
TZNAME:CET
DTSTART:20241027T010000
END:STANDARD
BEGIN:DAYLIGHT
TZOFFSETFROM:+0100
TZOFFSETTO:+0200
TZNAME:CEST
DTSTART:20250330T010000
END:DAYLIGHT
BEGIN:STANDARD
TZOFFSETFROM:+0200
TZOFFSETTO:+0100
TZNAME:CET
DTSTART:20251026T010000
END:STANDARD
BEGIN:DAYLIGHT
TZOFFSETFROM:+0100
TZOFFSETTO:+0200
TZNAME:CEST
DTSTART:20260329T010000
END:DAYLIGHT
BEGIN:STANDARD
TZOFFSETFROM:+0200
TZOFFSETTO:+0100
TZNAME:CET
DTSTART:20261025T010000
END:STANDARD
END:VTIMEZONE
BEGIN:VEVENT
DTSTART;TZID=Europe/Berlin:20250906T140000
DTEND;TZID=Europe/Berlin:20250906T180000
DTSTAMP:20260422T004450
CREATED:20250504T134841Z
LAST-MODIFIED:20250826T175506Z
UID:7548-1757167200-1757181600@imkerverein-hamm.de
SUMMARY:ABGESAGT- Spaziergang im Uentroper Wald - ABGESAGT
DESCRIPTION:Wir müssen diesen Termin leider absagen! \nWir laden Euch herzlich zu einem Spaziergang zum Herbstbeginn in den Uentroper Wald ein! \nNach dem Spaziergang kehren wir zum Café Umtrunk ein (Selbstkosten) um den Tag gemütlich ausklingen zu lassen. \nTreffpunkt wird Tante Malchen. \nGäste sind gerne willkommen!
URL:https://imkerverein-hamm.de/termin/spaziergang-im-uentroper-wald/
LOCATION:Tante Malchen\, Dolberger Straße 89\, Lippetal\, 59510\, Germany
END:VEVENT
END:VCALENDAR